BEGIN:VCALENDAR
VERSION:2.0
PRODID:spatie/icalendar-generator
DESCRIPTION:Events from Ashtree Wildcrafting
X-WR-CALDESC:Events from Ashtree Wildcrafting
REFRESH-INTERVAL;VALUE=DURATION:PT1440M
X-PUBLISHED-TTL:PT1440M
BEGIN:VTIMEZONE
TZID:Etc/GMT+8
BEGIN:STANDARD
DTSTART:20250318T120400Z
TZOFFSETFROM:-0800
TZOFFSETTO:-0800
END:STANDARD
END:VTIMEZONE
BEGIN:VTIMEZONE
TZID:UTC
BEGIN:STANDARD
DTSTART:20250726T122544Z
TZOFFSETFROM:+0000
TZOFFSETTO:+0000
END:STANDARD
END:VTIMEZONE
BEGIN:VEVENT
UID:81-56
DTSTAMP:20260422T122544Z
SUMMARY:A REEL Christmas Market
LOCATION:
ORGANIZER;CN=TeaMaster:MAILTO:support@ashtreewildcrafting.ca
DTSTART;TZID=Etc/GMT+8:20251213T120400
DTEND;TZID=Etc/GMT+8:20251213T190400
X-ALT-DESC;FMTTYPE=TEXT/HTML:We are looking forward to attending another wi
 nter outdoor market on December 13th and 14th at Rustic Reel Brewery in Ke
 lowna BC!  We'll have our teas out and the hot water karafe\, so stop by 
 for a hot cup of locally-foraged\, wildcrafted looseleaf tea while you sho
 p!
CATEGORIES:Craft Fairs
URL;VALUE=URI:https://ashtreewildcrafting.ca/wp/mc-events/a-reel-christmas-
 market-3/
METHOD:PUBLISH
END:VEVENT
END:VCALENDAR