BEGIN:VCALENDAR
VERSION:2.0
PRODID:spatie/icalendar-generator
DESCRIPTION:Events from Ashtree Wildcrafting
X-WR-CALDESC:Events from Ashtree Wildcrafting
REFRESH-INTERVAL;VALUE=DURATION:PT1440M
X-PUBLISHED-TTL:PT1440M
BEGIN:VTIMEZONE
TZID:Etc/GMT+8
BEGIN:STANDARD
DTSTART:20250211T100000Z
TZOFFSETFROM:-0800
TZOFFSETTO:-0800
END:STANDARD
END:VTIMEZONE
BEGIN:VTIMEZONE
TZID:UTC
BEGIN:STANDARD
DTSTART:20250726T140915Z
TZOFFSETFROM:+0000
TZOFFSETTO:+0000
END:STANDARD
END:VTIMEZONE
BEGIN:VEVENT
UID:61-55
DTSTAMP:20260422T140915Z
SUMMARY:Schubert Christmas Market
LOCATION:
ORGANIZER;CN=TeaMaster:MAILTO:support@ashtreewildcrafting.ca
DTSTART;TZID=Etc/GMT+8:20251108T100000
DTEND;TZID=Etc/GMT+8:20251108T150000
X-ALT-DESC;FMTTYPE=TEXT/HTML:Biblical Natural Health Coaching will be assis
 ting Ashtree Wildcrafting at the Schubert Market on November 8th from 10am
  to 3pm.  Browse our unique teas\, reusable cloth tea bags\, infusions\, 
 sample tea collections and more!  Stop by to see the Mini Apothecaries\, 
 and buy one as a gift for yourself or someone special on your list.&amp;hellip
 \;
CATEGORIES:Craft Fairs
URL;VALUE=URI:https://ashtreewildcrafting.ca/wp/mc-events/schubert-christma
 s-market/
METHOD:PUBLISH
END:VEVENT
END:VCALENDAR