BEGIN:VCALENDAR
VERSION:2.0
PRODID:spatie/icalendar-generator
DESCRIPTION:Events from Ashtree Wildcrafting
X-WR-CALDESC:Events from Ashtree Wildcrafting
REFRESH-INTERVAL;VALUE=DURATION:PT1440M
X-PUBLISHED-TTL:PT1440M
BEGIN:VTIMEZONE
TZID:Etc/GMT+8
BEGIN:STANDARD
DTSTART:20241217T090000Z
TZOFFSETFROM:-0800
TZOFFSETTO:-0800
END:STANDARD
END:VTIMEZONE
BEGIN:VTIMEZONE
TZID:UTC
BEGIN:STANDARD
DTSTART:20250726T160600Z
TZOFFSETFROM:+0000
TZOFFSETTO:+0000
END:STANDARD
END:VTIMEZONE
BEGIN:VEVENT
UID:60-54
DTSTAMP:20260422T160600Z
SUMMARY:Rock Creek Fall Fair
LOCATION:
ORGANIZER;CN=TeaMaster:MAILTO:support@ashtreewildcrafting.ca
RRULE:FREQ=DAILY;UNTIL=20250914T000000Z
DTSTART;TZID=Etc/GMT+8:20250913T090000
DTEND;TZID=Etc/GMT+8:20250913T170000
X-ALT-DESC;FMTTYPE=TEXT/HTML:Mid-September\, we'll be at the Rock Creek Fal
 l Fair offering teas from Ashtree Wildcrafting\, three of my books\, a cou
 ple infusions\, sample collections\, mini apothecary chests\, vintage chin
 a\, and potentially my curly dock cookies again.  We'll see.  Also hopin
 g to have chokecherry syrup and jelly out as well. This will be our first 
 time at&amp;hellip\;
CATEGORIES:Craft Fairs
URL;VALUE=URI:https://ashtreewildcrafting.ca/wp/mc-events/rock-creek-fall-f
 air/?mc_id=60
METHOD:PUBLISH
END:VEVENT
END:VCALENDAR