BEGIN:VCALENDAR
VERSION:2.0
PRODID:spatie/icalendar-generator
DESCRIPTION:Events from Ashtree Wildcrafting
X-WR-CALDESC:Events from Ashtree Wildcrafting
REFRESH-INTERVAL;VALUE=DURATION:PT1440M
X-PUBLISHED-TTL:PT1440M
BEGIN:VTIMEZONE
TZID:Etc/GMT+8
BEGIN:STANDARD
DTSTART:20230315T100000Z
TZOFFSETFROM:-0800
TZOFFSETTO:-0800
END:STANDARD
END:VTIMEZONE
BEGIN:VTIMEZONE
TZID:UTC
BEGIN:STANDARD
DTSTART:20250726T105018Z
TZOFFSETFROM:+0000
TZOFFSETTO:+0000
END:STANDARD
END:VTIMEZONE
BEGIN:VEVENT
UID:6-6
DTSTAMP:20260422T105018Z
SUMMARY:Springvalley Elementary Christmas Market
LOCATION:
ORGANIZER;CN=TeaMaster:MAILTO:support@ashtreewildcrafting.ca
DTSTART;TZID=Etc/GMT+8:20231210T100000
DTEND;TZID=Etc/GMT+8:20231210T140000
X-ALT-DESC;FMTTYPE=TEXT/HTML:
CATEGORIES:Craft Fairs
URL;VALUE=URI:https://ashtreewildcrafting.ca/wp/mc-events/springvalley-elem
 entary-christmas-market/
METHOD:PUBLISH
END:VEVENT
END:VCALENDAR