BEGIN:VCALENDAR
VERSION:2.0
PRODID:spatie/icalendar-generator
DESCRIPTION:Events from Ashtree Wildcrafting
X-WR-CALDESC:Events from Ashtree Wildcrafting
REFRESH-INTERVAL;VALUE=DURATION:PT1440M
X-PUBLISHED-TTL:PT1440M
BEGIN:VTIMEZONE
TZID:Etc/GMT+8
BEGIN:STANDARD
DTSTART:20241224T100000Z
TZOFFSETFROM:-0800
TZOFFSETTO:-0800
END:STANDARD
END:VTIMEZONE
BEGIN:VTIMEZONE
TZID:UTC
BEGIN:STANDARD
DTSTART:20250726T174926Z
TZOFFSETFROM:+0000
TZOFFSETTO:+0000
END:STANDARD
END:VTIMEZONE
BEGIN:VEVENT
UID:59-53
DTSTAMP:20260422T174926Z
SUMMARY:Schubert Fall Market
LOCATION:
ORGANIZER;CN=TeaMaster:MAILTO:support@ashtreewildcrafting.ca
DTSTART;TZID=Etc/GMT+8:20250920T100000
DTEND;TZID=Etc/GMT+8:20250920T150000
X-ALT-DESC;FMTTYPE=TEXT/HTML:Biblical Natural Health Coaching will be assis
 ting Ashtree Wildcrafting at the Schubert Market on September 20th from 10
 am to 3pm.  Browse our unique teas\, reusable cloth tea bags\, sample tea
  collections\, and more! See you there!
CATEGORIES:Craft Fairs
URL;VALUE=URI:https://ashtreewildcrafting.ca/wp/mc-events/schubert-fall-mar
 ket/
METHOD:PUBLISH
END:VEVENT
END:VCALENDAR