BEGIN:VCALENDAR
VERSION:2.0
PRODID:spatie/icalendar-generator
DESCRIPTION:Events from Ashtree Wildcrafting
X-WR-CALDESC:Events from Ashtree Wildcrafting
REFRESH-INTERVAL;VALUE=DURATION:PT1440M
X-PUBLISHED-TTL:PT1440M
BEGIN:VTIMEZONE
TZID:Etc/GMT+8
BEGIN:STANDARD
DTSTART:20241013T170000Z
TZOFFSETFROM:-0800
TZOFFSETTO:-0800
END:STANDARD
END:VTIMEZONE
BEGIN:VTIMEZONE
TZID:UTC
BEGIN:STANDARD
DTSTART:20250726T214932Z
TZOFFSETFROM:+0000
TZOFFSETTO:+0000
END:STANDARD
END:VTIMEZONE
BEGIN:VEVENT
UID:57-51
DTSTAMP:20260422T214932Z
SUMMARY:Joe Rich Night Market and Dinner
LOCATION:
ORGANIZER;CN=TeaMaster:MAILTO:support@ashtreewildcrafting.ca
DTSTART;TZID=Etc/GMT+8:20250710T170000
DTEND;TZID=Etc/GMT+8:20250710T190000
X-ALT-DESC;FMTTYPE=TEXT/HTML:We are happy to be back at the Joe Rich Fireha
 ll on Thursday at 5pm\, with our teas\, books\, reusable tea bags\, and no
 w our sample collections!  Don't forget to stop by the BBQ pit for your p
 late holding a pulled pork sandwich! See you there!
CATEGORIES:Craft Fairs
URL;VALUE=URI:https://ashtreewildcrafting.ca/wp/mc-events/joe-rich-night-ma
 rket-and-dinner/
METHOD:PUBLISH
END:VEVENT
END:VCALENDAR