BEGIN:VCALENDAR
VERSION:2.0
PRODID:spatie/icalendar-generator
DESCRIPTION:Events from Ashtree Wildcrafting
X-WR-CALDESC:Events from Ashtree Wildcrafting
REFRESH-INTERVAL;VALUE=DURATION:PT1440M
X-PUBLISHED-TTL:PT1440M
BEGIN:VTIMEZONE
TZID:Etc/GMT+8
BEGIN:STANDARD
DTSTART:20230718T100000Z
TZOFFSETFROM:-0800
TZOFFSETTO:-0800
END:STANDARD
END:VTIMEZONE
BEGIN:VTIMEZONE
TZID:UTC
BEGIN:STANDARD
DTSTART:20250726T124012Z
TZOFFSETFROM:+0000
TZOFFSETTO:+0000
END:STANDARD
END:VTIMEZONE
BEGIN:VEVENT
UID:5-5
DTSTAMP:20260422T124012Z
SUMMARY:Vernon Wellness Fair
LOCATION:
ORGANIZER;CN=TeaMaster:MAILTO:support@ashtreewildcrafting.ca
DTSTART;TZID=Etc/GMT+8:20240413T100000
DTEND;TZID=Etc/GMT+8:20240414T110000
X-ALT-DESC;FMTTYPE=TEXT/HTML:Ashtree Wildcrafting and Biblical Natural Heal
 th Coaching will be set up and ready to discuss helping you maintain or re
 gain your health in a God-honouring way using wholefood as medicine that m
 ight be growing right outside your front door. You'll find Marilynn's mont
 hly natural health retainer\, her brochure detailing her natural health se
 rvices\, a restored&amp;hellip\;
CATEGORIES:Holistic Fairs
URL;VALUE=URI:https://ashtreewildcrafting.ca/wp/mc-events/vernon-wellness-f
 air/
METHOD:PUBLISH
END:VEVENT
END:VCALENDAR