BEGIN:VCALENDAR
VERSION:2.0
PRODID:spatie/icalendar-generator
DESCRIPTION:Events from Ashtree Wildcrafting
X-WR-CALDESC:Events from Ashtree Wildcrafting
REFRESH-INTERVAL;VALUE=DURATION:PT1440M
X-PUBLISHED-TTL:PT1440M
BEGIN:VTIMEZONE
TZID:Etc/GMT+8
BEGIN:STANDARD
DTSTART:20240626T100000Z
TZOFFSETFROM:-0800
TZOFFSETTO:-0800
END:STANDARD
END:VTIMEZONE
BEGIN:VTIMEZONE
TZID:UTC
BEGIN:STANDARD
DTSTART:20250726T160707Z
TZOFFSETFROM:+0000
TZOFFSETTO:+0000
END:STANDARD
END:VTIMEZONE
BEGIN:VEVENT
UID:46-3
DTSTAMP:20260422T160707Z
SUMMARY:HPR Spring Craft Fair
LOCATION:
ORGANIZER;CN=TeaMaster:MAILTO:support@ashtreewildcrafting.ca
DTSTART;TZID=Etc/GMT+8:20250323T100000
DTEND;TZID=Etc/GMT+8:20250323T140000
X-ALT-DESC;FMTTYPE=TEXT/HTML:Ashtree Wildcrafting and Biblical Natural Heal
 th Coaching will be at the Holiday Park Resort's Spring Craft Fair on Marc
 h 23rd\, 2025! Come sample a wild tea and buy one to take home.  Discuss 
 how natural health using food as medicine can benefit you and your househo
 ld!
CATEGORIES:Craft Fairs
URL;VALUE=URI:https://ashtreewildcrafting.ca/wp/mc-events/hpr-spring-craft-
 fair/
METHOD:PUBLISH
END:VEVENT
END:VCALENDAR