BEGIN:VCALENDAR
VERSION:2.0
PRODID:spatie/icalendar-generator
DESCRIPTION:Events from Ashtree Wildcrafting
X-WR-CALDESC:Events from Ashtree Wildcrafting
REFRESH-INTERVAL;VALUE=DURATION:PT1440M
X-PUBLISHED-TTL:PT1440M
BEGIN:VTIMEZONE
TZID:Etc/GMT+8
BEGIN:STANDARD
DTSTART:20241015T100000Z
TZOFFSETFROM:-0800
TZOFFSETTO:-0800
END:STANDARD
END:VTIMEZONE
BEGIN:VTIMEZONE
TZID:UTC
BEGIN:STANDARD
DTSTART:20250726T212956Z
TZOFFSETFROM:+0000
TZOFFSETTO:+0000
END:STANDARD
END:VTIMEZONE
BEGIN:VEVENT
UID:58-52
DTSTAMP:20260422T212956Z
SUMMARY:Summer in the Mountains mini Market
LOCATION:
ORGANIZER;CN=TeaMaster:MAILTO:support@ashtreewildcrafting.ca
DTSTART;TZID=Etc/GMT+8:20250712T100000
DTEND;TZID=Etc/GMT+8:20250712T160000
X-ALT-DESC;FMTTYPE=TEXT/HTML:Joe Rich seems to be calling our name this sum
 mer!  We are excited to be at an outdoor mini-market on Goudi Rd on July 
 12th from 10am to 4pm!  Come check out our full new and improved display 
 featuring 15 tea blends\, a number of themed sample collections\, mug sock
 s\, reusable cloth tea bags\, books\,&amp;hellip\;
CATEGORIES:Craft Fairs
URL;VALUE=URI:https://ashtreewildcrafting.ca/wp/mc-events/summer-in-the-mou
 ntains-mini-market/
METHOD:PUBLISH
END:VEVENT
END:VCALENDAR