BEGIN:VCALENDAR
VERSION:2.0
PRODID:spatie/icalendar-generator
DESCRIPTION:Events from Ashtree Wildcrafting
X-WR-CALDESC:Events from Ashtree Wildcrafting
REFRESH-INTERVAL;VALUE=DURATION:PT1440M
X-PUBLISHED-TTL:PT1440M
BEGIN:VTIMEZONE
TZID:Etc/GMT+8
BEGIN:STANDARD
DTSTART:20230425T100000Z
TZOFFSETFROM:-0800
TZOFFSETTO:-0800
END:STANDARD
END:VTIMEZONE
BEGIN:VTIMEZONE
TZID:UTC
BEGIN:STANDARD
DTSTART:20250726T201137Z
TZOFFSETFROM:+0000
TZOFFSETTO:+0000
END:STANDARD
END:VTIMEZONE
BEGIN:VEVENT
UID:2-2
DTSTAMP:20260422T201137Z
SUMMARY:Wild Soul Collective Holistic Fair\, Oyama
LOCATION:
ORGANIZER;CN=TeaMaster:MAILTO:support@ashtreewildcrafting.ca
DTSTART;TZID=Etc/GMT+8:20240120T100000
DTEND;TZID=Etc/GMT+8:20240120T110000
X-ALT-DESC;FMTTYPE=TEXT/HTML:Ashtree Wildcrafting\, along with Biblical Nat
 ural Health Coaching will be set up and ready to discuss helping you maint
 ain or regain your health in a God-honouring way using wholefood as medici
 ne that might be growing right outside your front door. At the BNHC booth\
 , you'll find Marilynn's monthly natural health retainer\, her brochure de
 tailing her&amp;hellip\;
CATEGORIES:Holistic Fairs
URL;VALUE=URI:https://ashtreewildcrafting.ca/wp/mc-events/wild-soul-collect
 ive-holistic-fair-oyama/
METHOD:PUBLISH
END:VEVENT
END:VCALENDAR